BEGIN:VCALENDAR
VERSION:2.0
PRODID:-//NACCHO Preparedness Brief - ECPv4.5.1//NONSGML v1.0//EN
CALSCALE:GREGORIAN
METHOD:PUBLISH
X-WR-CALNAME:NACCHO Preparedness Brief
X-ORIGINAL-URL:http://nacchopreparedness.org
X-WR-CALDESC:Events for NACCHO Preparedness Brief
BEGIN:VEVENT
DTSTART;TZID=America/New_York:20170720T140000
DTEND;TZID=America/New_York:20170720T150000
DTSTAMP:20170709T195411
CREATED:20170707T193052Z
LAST-MODIFIED:20170707T193052Z
UID:7373-1500559200-1500562800@nacchopreparedness.org
SUMMARY:Webinar: Growing and Sustaining: A Discussion About Healthcare Coalition Financial Models
DESCRIPTION:Healthcare Coalitions (HCCs) across the country have been tasked with supporting disaster operations in their communities during and after emergency events. For many HCCs\, the transition from serving as a planning entity to an operational entity is challenging. In an effort to provide further assistance to HCCs\, the Office of the Assistant Secretary for Preparedness and Response (ASPR’s) Technical Resources\, Assistance Center\, and Information Exchange (TRACIE) is hosting a webinar series focused on operationalizing coalitions.\n\n\nThe fourth webinar in this series is scheduled for Thursday\, July\, 20 from 2:00-3:00 pm ET and will discuss unique financial models designed for HCC implementation. Participants will hear from a variety of speakers about different financial models\, including their insights on lessons learned\, benefits\, and challenges corresponding with each presented model. Agencies looking to improve their current financial model or transition to a new approach are especially encouraged to attend this webinar. Click here to register today for this free webinar.
URL:http://nacchopreparedness.org/event/webinar-growing-and-sustaining-a-discussion-about-healthcare-coalition-financial-models/
CATEGORIES:E-Learning,Training
END:VEVENT
BEGIN:VEVENT
DTSTART;TZID=America/New_York:20170813T080000
DTEND;TZID=America/New_York:20170819T170000
DTSTAMP:20170709T195411
CREATED:20170419T143422Z
LAST-MODIFIED:20170419T143422Z
UID:7194-1502611200-1503162000@nacchopreparedness.org
SUMMARY:Strategic National Stockpile (SNS) Operations Course (August)
DESCRIPTION:The Strategic National Stockpile (SNS) Preparedness Course is a five-day course designed to give federal\, state\, and local officials information on how to best plan and prepare for a public health emergency and how to use and manage the SNS in response to a terrorist attack\, natural disaster\, or technological accident.\n\nThis course takes place at the Federal Emergency Management Agency (FEMA) Center for Domestic Preparedness (CDP) in Anniston\, Alabama. FEMA also covers the cost of travel expenses for state and local students. Click to view the full course description\, registration procedures\, and prerequisites. CDP opens registration quarterly on the first days of February\, May\, August and November for the following quarter. The 2017 course dates at June 11-17 and August 13-19. To register for either training\, please click to view the training calendar.
URL:http://nacchopreparedness.org/event/strategic-national-stockpile-sns-operations-course-august/
CATEGORIES:Training
END:VEVENT
BEGIN:VEVENT
DTSTART;TZID=America/New_York:20170910T170000
DTEND;TZID=America/New_York:20170913T123000
DTSTAMP:20170709T195411
CREATED:20170609T150123Z
LAST-MODIFIED:20170609T150123Z
UID:7329-1505062800-1505305800@nacchopreparedness.org
SUMMARY:Conference: Public Health & Disasters
DESCRIPTION:The University of Utah's Division of Public Health will host a multidisciplinary national conference focusing on public health and disasters on September 10-13\, 2017 in Park City\, UT. The conference aims to foster open dialogue and resource sharing among public health professionals supporting public health emergency response in the public and private sectors. Attendees will have the opportunity to explore a range of diverse topics designed to further the work of public health and medical practitioners\, emergency medical professionals\, researchers\, and managers who are involved in policy and implementation.\n\nConference registration is now open with reduced fees available until August 12\, 2017 as well as a discounted rate for students. Click here to register today. Additional information about the conference\, including venue\, agenda\, and speakers is available at this link.
URL:http://nacchopreparedness.org/event/conference-public-health-disasters/
LOCATION:1476 Newpark Boulevard\, Park City\, UT\, 84098\, United States
CATEGORIES:Training
END:VEVENT
END:VCALENDAR